BEGIN:VCALENDAR
VERSION:2.0
PRODID:-//Coomealla Mildura Mountainless Bike Club - ECPv4.2.7//NONSGML v1.0//EN
CALSCALE:GREGORIAN
METHOD:PUBLISH
X-WR-CALNAME:Coomealla Mildura Mountainless Bike Club
X-ORIGINAL-URL:https://mountainlessbikeclub.net.au
X-WR-CALDESC:Events for Coomealla Mildura Mountainless Bike Club
BEGIN:VEVENT
DTSTART;TZID=Australia/Broken_Hill:20210328T093000
DTEND;TZID=Australia/Broken_Hill:20210328T093000
DTSTAMP:20260423T171140
CREATED:20210122T000911
LAST-MODIFIED:20210122T000911
UID:1223-1616923800-1616923800@mountainlessbikeclub.net.au
SUMMARY:Top End Track
DESCRIPTION:Round: 1Round 1 - Meet at the ponds near the golf driving range.Registration: 8:45-9:15am 
URL:https://mountainlessbikeclub.net.au/event/top-end-track-7/
END:VEVENT
END:VCALENDAR