BEGIN:VCALENDAR
VERSION:2.0
PRODID:-//Coomealla Mildura Mountainless Bike Club - ECPv4.2.7//NONSGML v1.0//EN
CALSCALE:GREGORIAN
METHOD:PUBLISH
X-WR-CALNAME:Coomealla Mildura Mountainless Bike Club
X-ORIGINAL-URL:https://mountainlessbikeclub.net.au
X-WR-CALDESC:Events for Coomealla Mildura Mountainless Bike Club
BEGIN:VEVENT
DTSTART;TZID=Australia/Broken_Hill:20200517T084500
DTEND;TZID=Australia/Broken_Hill:20200517T170000
DTSTAMP:20260423T124818
CREATED:20191126T042518
LAST-MODIFIED:20191126T042518
UID:1173-1589705100-1589734800@mountainlessbikeclub.net.au
SUMMARY:Top End Track
DESCRIPTION:Meet at the ponds near the golf driving range.
URL:https://mountainlessbikeclub.net.au/event/top-end-track-4/
END:VEVENT
END:VCALENDAR