BEGIN:VCALENDAR
VERSION:2.0
PRODID:-//Coomealla Mildura Mountainless Bike Club - ECPv4.2.7//NONSGML v1.0//EN
CALSCALE:GREGORIAN
METHOD:PUBLISH
X-WR-CALNAME:Coomealla Mildura Mountainless Bike Club
X-ORIGINAL-URL:https://mountainlessbikeclub.net.au
X-WR-CALDESC:Events for Coomealla Mildura Mountainless Bike Club
BEGIN:VEVENT
DTSTART;TZID=Australia/Broken_Hill:20190623T093000
DTEND;TZID=Australia/Broken_Hill:20190623T093000
DTSTAMP:20260423T104322
CREATED:20190129T054206
LAST-MODIFIED:20190129T054206
UID:1119-1561282200-1561282200@mountainlessbikeclub.net.au
SUMMARY:Top End Track
DESCRIPTION:Registration: 8:45-9:15am - Meet at the ponds near golf driving range.
URL:https://mountainlessbikeclub.net.au/event/top-end-track-2/
END:VEVENT
END:VCALENDAR