BEGIN:VCALENDAR
VERSION:2.0
PRODID:-//Coomealla Mildura Mountainless Bike Club - ECPv4.2.7//NONSGML v1.0//EN
CALSCALE:GREGORIAN
METHOD:PUBLISH
X-WR-CALNAME:Coomealla Mildura Mountainless Bike Club
X-ORIGINAL-URL:https://mountainlessbikeclub.net.au
X-WR-CALDESC:Events for Coomealla Mildura Mountainless Bike Club
BEGIN:VEVENT
DTSTART;TZID=Australia/Broken_Hill:20210620T093000
DTEND;TZID=Australia/Broken_Hill:20210620T093000
DTSTAMP:20260423T160145
CREATED:20210122T000911
LAST-MODIFIED:20210122T000911
UID:1227-1624181400-1624181400@mountainlessbikeclub.net.au
SUMMARY:Time Trial
DESCRIPTION:Round: 5A lap in both directions of the same track. Registration: 8:45-9:15am 
URL:https://mountainlessbikeclub.net.au/event/time-trial-3/
END:VEVENT
END:VCALENDAR