BEGIN:VCALENDAR
VERSION:2.0
PRODID:-//Coomealla Mildura Mountainless Bike Club - ECPv4.2.7//NONSGML v1.0//EN
CALSCALE:GREGORIAN
METHOD:PUBLISH
X-WR-CALNAME:Coomealla Mildura Mountainless Bike Club
X-ORIGINAL-URL:https://mountainlessbikeclub.net.au
X-WR-CALDESC:Events for Coomealla Mildura Mountainless Bike Club
BEGIN:VEVENT
DTSTART;TZID=Australia/Broken_Hill:20210808T093000
DTEND;TZID=Australia/Broken_Hill:20210808T093000
DTSTAMP:20260423T143550
CREATED:20210122T000910
LAST-MODIFIED:20210122T000910
UID:1230-1628415000-1628415000@mountainlessbikeclub.net.au
SUMMARY:Time Trial
DESCRIPTION:Round: 7Working Bee to follow.  Half points for '2021 Series'.Registration: 8:45-9:15am 
URL:https://mountainlessbikeclub.net.au/event/time-trial-2/
END:VEVENT
END:VCALENDAR