BEGIN:VCALENDAR
VERSION:2.0
PRODID:-//Coomealla Mildura Mountainless Bike Club - ECPv4.2.7//NONSGML v1.0//EN
CALSCALE:GREGORIAN
METHOD:PUBLISH
X-WR-CALNAME:Coomealla Mildura Mountainless Bike Club
X-ORIGINAL-URL:https://mountainlessbikeclub.net.au
X-WR-CALDESC:Events for Coomealla Mildura Mountainless Bike Club
BEGIN:VEVENT
DTSTART;TZID=Australia/Broken_Hill:20180211T000000
DTEND;TZID=Australia/Broken_Hill:20180211T000000
DTSTAMP:20260423T042421
CREATED:20171217T223802
LAST-MODIFIED:20171220T220037
UID:1021-1518307200-1518307200@mountainlessbikeclub.net.au
SUMMARY:Summer Series Round 3
DESCRIPTION:Short Track\n\nOrganiser: Coomealla Mildura Mountainless Bike Club\n\nVenue: Coomealla MTB Park\n\nRace Time: 9:30am\n\nPhone: 0422875988
URL:https://mountainlessbikeclub.net.au/event/summer-series-round-3-2/
CATEGORIES:All Grades
END:VEVENT
END:VCALENDAR