BEGIN:VCALENDAR
VERSION:2.0
PRODID:-//Coomealla Mildura Mountainless Bike Club - ECPv4.2.7//NONSGML v1.0//EN
CALSCALE:GREGORIAN
METHOD:PUBLISH
X-WR-CALNAME:Coomealla Mildura Mountainless Bike Club
X-ORIGINAL-URL:https://mountainlessbikeclub.net.au
X-WR-CALDESC:Events for Coomealla Mildura Mountainless Bike Club
BEGIN:VEVENT
DTSTART;TZID=Australia/Broken_Hill:20181111T154500
DTEND;TZID=Australia/Broken_Hill:20181111T170000
DTSTAMP:20260423T041447
CREATED:20171217T223802
LAST-MODIFIED:20171217T230244
UID:1033-1541951100-1541955600@mountainlessbikeclub.net.au
SUMMARY:Summer Series Round 1
DESCRIPTION:Handicap Eliminator\n\nOrganiser: Coomealla Mildura Mountainless Bike Club\n\nVenue: Coomealla MTB Park\n\nRegistration Time: 3:45pm\n\nRace Time: 4:30pm\n\nPhone: 0422875988
URL:https://mountainlessbikeclub.net.au/event/summer-series-round-1-2/
CATEGORIES:All Grades
END:VEVENT
END:VCALENDAR