BEGIN:VCALENDAR
VERSION:2.0
PRODID:-//Coomealla Mildura Mountainless Bike Club - ECPv4.2.7//NONSGML v1.0//EN
CALSCALE:GREGORIAN
METHOD:PUBLISH
X-WR-CALNAME:Coomealla Mildura Mountainless Bike Club
X-ORIGINAL-URL:https://mountainlessbikeclub.net.au
X-WR-CALDESC:Events for Coomealla Mildura Mountainless Bike Club
BEGIN:VEVENT
DTSTART;TZID=Australia/Broken_Hill:20190210T093000
DTEND;TZID=Australia/Broken_Hill:20190210T093000
DTSTAMP:20260423T023039
CREATED:20190129T054206
LAST-MODIFIED:20190129T054206
UID:1113-1549791000-1549791000@mountainlessbikeclub.net.au
SUMMARY:Short Track
DESCRIPTION:Registration: 8:45-9:15am - 'Summer Series' Round 3.
URL:https://mountainlessbikeclub.net.au/event/short-track/
END:VEVENT
END:VCALENDAR