BEGIN:VCALENDAR
VERSION:2.0
PRODID:-//Coomealla Mildura Mountainless Bike Club - ECPv4.2.7//NONSGML v1.0//EN
CALSCALE:GREGORIAN
METHOD:PUBLISH
X-WR-CALNAME:Coomealla Mildura Mountainless Bike Club
X-ORIGINAL-URL:https://mountainlessbikeclub.net.au
X-WR-CALDESC:Events for Coomealla Mildura Mountainless Bike Club
BEGIN:VEVENT
DTSTART;TZID=Australia/Broken_Hill:20210418T093000
DTEND;TZID=Australia/Broken_Hill:20210418T093000
DTSTAMP:20260423T185509
CREATED:20210122T000911
LAST-MODIFIED:20210122T000911
UID:1224-1618738200-1618738200@mountainlessbikeclub.net.au
SUMMARY:Short Track
DESCRIPTION:Round: 2Shorter than a long track.Registration: 8:45-9:15am 
URL:https://mountainlessbikeclub.net.au/event/short-track-8/
END:VEVENT
END:VCALENDAR