BEGIN:VCALENDAR
VERSION:2.0
PRODID:-//Coomealla Mildura Mountainless Bike Club - ECPv4.2.7//NONSGML v1.0//EN
CALSCALE:GREGORIAN
METHOD:PUBLISH
X-WR-CALNAME:Coomealla Mildura Mountainless Bike Club
X-ORIGINAL-URL:https://mountainlessbikeclub.net.au
X-WR-CALDESC:Events for Coomealla Mildura Mountainless Bike Club
BEGIN:VEVENT
DTSTART;TZID=Australia/Broken_Hill:20200419T084500
DTEND;TZID=Australia/Broken_Hill:20200419T084500
DTSTAMP:20260423T110252
CREATED:20191126T042408
LAST-MODIFIED:20191126T042408
UID:1171-1587285900-1587285900@mountainlessbikeclub.net.au
SUMMARY:Short Track
DESCRIPTION:Round 1 '2020 Series'
URL:https://mountainlessbikeclub.net.au/event/short-track-6/
END:VEVENT
END:VCALENDAR