BEGIN:VCALENDAR
VERSION:2.0
PRODID:-//Coomealla Mildura Mountainless Bike Club - ECPv4.2.7//NONSGML v1.0//EN
CALSCALE:GREGORIAN
METHOD:PUBLISH
X-WR-CALNAME:Coomealla Mildura Mountainless Bike Club
X-ORIGINAL-URL:https://mountainlessbikeclub.net.au
X-WR-CALDESC:Events for Coomealla Mildura Mountainless Bike Club
BEGIN:VEVENT
DTSTART;TZID=Australia/Broken_Hill:20190317T093000
DTEND;TZID=Australia/Broken_Hill:20190317T093000
DTSTAMP:20260423T073112
CREATED:20190129T054206
LAST-MODIFIED:20190129T054206
UID:1115-1552815000-1552815000@mountainlessbikeclub.net.au
SUMMARY:Short Track
DESCRIPTION:Registration: 8:45-9:15am - Round 1 of '2019 Aggregate' & final round of 'Summer Series'.
URL:https://mountainlessbikeclub.net.au/event/short-track-2/
END:VEVENT
END:VCALENDAR