BEGIN:VCALENDAR
VERSION:2.0
PRODID:-//Coomealla Mildura Mountainless Bike Club - ECPv4.2.7//NONSGML v1.0//EN
CALSCALE:GREGORIAN
METHOD:PUBLISH
X-WR-CALNAME:Coomealla Mildura Mountainless Bike Club
X-ORIGINAL-URL:https://mountainlessbikeclub.net.au
X-WR-CALDESC:Events for Coomealla Mildura Mountainless Bike Club
BEGIN:VEVENT
DTSTART;TZID=Australia/Broken_Hill:20211121T090000
DTEND;TZID=Australia/Broken_Hill:20211121T090000
DTSTAMP:20260423T204718
CREATED:20210122T000910
LAST-MODIFIED:20210122T000910
UID:1235-1637485200-1637485200@mountainlessbikeclub.net.au
SUMMARY:Santa Scramble
DESCRIPTION:Round: NoveltyHandicap Pairs Event for Hamper prizes.Registration: 8:15-8:45am
URL:https://mountainlessbikeclub.net.au/event/santa-scramble-3/
END:VEVENT
END:VCALENDAR