BEGIN:VCALENDAR
VERSION:2.0
PRODID:-//Coomealla Mildura Mountainless Bike Club - ECPv4.2.7//NONSGML v1.0//EN
CALSCALE:GREGORIAN
METHOD:PUBLISH
X-WR-CALNAME:Coomealla Mildura Mountainless Bike Club
X-ORIGINAL-URL:https://mountainlessbikeclub.net.au
X-WR-CALDESC:Events for Coomealla Mildura Mountainless Bike Club
BEGIN:VEVENT
DTSTART;TZID=Australia/Broken_Hill:20201122T081500
DTEND;TZID=Australia/Broken_Hill:20201122T170000
DTSTAMP:20260423T093417
CREATED:20191126T044110
LAST-MODIFIED:20191126T044110
UID:1195-1606032900-1606064400@mountainlessbikeclub.net.au
SUMMARY:Santa Scramble
DESCRIPTION:Handicap Pairs Event for Hamper prizes.
URL:https://mountainlessbikeclub.net.au/event/santa-scramble-2/
END:VEVENT
END:VCALENDAR