BEGIN:VCALENDAR
VERSION:2.0
PRODID:-//Coomealla Mildura Mountainless Bike Club - ECPv4.2.7//NONSGML v1.0//EN
CALSCALE:GREGORIAN
METHOD:PUBLISH
X-WR-CALNAME:Coomealla Mildura Mountainless Bike Club
X-ORIGINAL-URL:https://mountainlessbikeclub.net.au
X-WR-CALDESC:Events for Coomealla Mildura Mountainless Bike Club
BEGIN:VEVENT
DTSTART;TZID=Australia/Broken_Hill:20170924T100000
DTEND;TZID=Australia/Broken_Hill:20170924T220000
DTSTAMP:20260423T073245
CREATED:20170109T010620
LAST-MODIFIED:20170217T035123
UID:932-1506247200-1506290400@mountainlessbikeclub.net.au
SUMMARY:Round 8 - 3 hour enduro
DESCRIPTION:Double points for '2017 Aggregate'.\n\n \n\nRegistration: 8:30am
URL:https://mountainlessbikeclub.net.au/event/round-8-3-hour-enduro/
CATEGORIES:3 Hour Enduro
END:VEVENT
END:VCALENDAR