BEGIN:VCALENDAR
VERSION:2.0
PRODID:-//Coomealla Mildura Mountainless Bike Club - ECPv4.2.7//NONSGML v1.0//EN
CALSCALE:GREGORIAN
METHOD:PUBLISH
X-WR-CALNAME:Coomealla Mildura Mountainless Bike Club
X-ORIGINAL-URL:https://mountainlessbikeclub.net.au
X-WR-CALDESC:Events for Coomealla Mildura Mountainless Bike Club
BEGIN:VEVENT
DTSTART;TZID=Australia/Broken_Hill:20170826T093000
DTEND;TZID=Australia/Broken_Hill:20170826T220000
DTSTAMP:20260423T104514
CREATED:20170109T010620
LAST-MODIFIED:20170217T035006
UID:930-1503739800-1503784800@mountainlessbikeclub.net.au
SUMMARY:Round 7 - Long Track 2 hour
DESCRIPTION:Proposed '3 Hour Enduro' track.\n\n \n\nRegistration: 8:45am
URL:https://mountainlessbikeclub.net.au/event/round-7-long-track-2-hour/
CATEGORIES:Long track - Forward (2 hour)
END:VEVENT
END:VCALENDAR