BEGIN:VCALENDAR
VERSION:2.0
PRODID:-//Coomealla Mildura Mountainless Bike Club - ECPv4.2.7//NONSGML v1.0//EN
CALSCALE:GREGORIAN
METHOD:PUBLISH
X-WR-CALNAME:Coomealla Mildura Mountainless Bike Club
X-ORIGINAL-URL:https://mountainlessbikeclub.net.au
X-WR-CALDESC:Events for Coomealla Mildura Mountainless Bike Club
BEGIN:VEVENT
DTSTART;TZID=Australia/Broken_Hill:20170723T093000
DTEND;TZID=Australia/Broken_Hill:20170723T220000
DTSTAMP:20260423T140658
CREATED:20170109T010620
LAST-MODIFIED:20170217T034812
UID:928-1500802200-1500847200@mountainlessbikeclub.net.au
SUMMARY:Round 6 - Long Track Reverse
DESCRIPTION:Registration: 8:45am
URL:https://mountainlessbikeclub.net.au/event/round-6-long-track-reverse/
CATEGORIES:Long track - Reverse
END:VEVENT
END:VCALENDAR