BEGIN:VCALENDAR
VERSION:2.0
PRODID:-//Coomealla Mildura Mountainless Bike Club - ECPv4.2.7//NONSGML v1.0//EN
CALSCALE:GREGORIAN
METHOD:PUBLISH
X-WR-CALNAME:Coomealla Mildura Mountainless Bike Club
X-ORIGINAL-URL:https://mountainlessbikeclub.net.au
X-WR-CALDESC:Events for Coomealla Mildura Mountainless Bike Club
BEGIN:VEVENT
DTSTART;TZID=Australia/Broken_Hill:20180304T084500
DTEND;TZID=Australia/Broken_Hill:20180304T120000
DTSTAMP:20260423T093253
CREATED:20171217T223802
LAST-MODIFIED:20171220T220232
UID:1022-1520153100-1520164800@mountainlessbikeclub.net.au
SUMMARY:Roll The Dice Novelty
DESCRIPTION:Roll the Dice\n\nOrganiser: Coomealla Mildura Mountainless Bike Club\n\nVenue: Coomealla MTB Park\n\nRegistration: 8:45am\n\nRace Time: 9:30am\n\nPhone: 0422875988
URL:https://mountainlessbikeclub.net.au/event/roll-the-dice-novelty/
CATEGORIES:All Grades
END:VEVENT
END:VCALENDAR