BEGIN:VCALENDAR
VERSION:2.0
PRODID:-//Coomealla Mildura Mountainless Bike Club - ECPv4.2.7//NONSGML v1.0//EN
CALSCALE:GREGORIAN
METHOD:PUBLISH
X-WR-CALNAME:Coomealla Mildura Mountainless Bike Club
X-ORIGINAL-URL:https://mountainlessbikeclub.net.au
X-WR-CALDESC:Events for Coomealla Mildura Mountainless Bike Club
BEGIN:VEVENT
DTSTART;TZID=Australia/Broken_Hill:20210228T093000
DTEND;TZID=Australia/Broken_Hill:20210228T093000
DTSTAMP:20260423T141902
CREATED:20210122T000911
LAST-MODIFIED:20210122T000911
UID:1221-1614504600-1614504600@mountainlessbikeclub.net.au
SUMMARY:Roll the Dice
DESCRIPTION:Round: Novelty2 rider teams alternating laps.  Handicap system applies.Registration: 8:45-9:15am 
URL:https://mountainlessbikeclub.net.au/event/roll-the-dice-3/
END:VEVENT
END:VCALENDAR