BEGIN:VCALENDAR
VERSION:2.0
PRODID:-//Coomealla Mildura Mountainless Bike Club - ECPv4.2.7//NONSGML v1.0//EN
CALSCALE:GREGORIAN
METHOD:PUBLISH
X-WR-CALNAME:Coomealla Mildura Mountainless Bike Club
X-ORIGINAL-URL:https://mountainlessbikeclub.net.au
X-WR-CALDESC:Events for Coomealla Mildura Mountainless Bike Club
BEGIN:VEVENT
DTSTART;TZID=Australia/Broken_Hill:20200301T084500
DTEND;TZID=Australia/Broken_Hill:20200301T084500
DTSTAMP:20260423T094039
CREATED:20191126T042053
LAST-MODIFIED:20191126T042053
UID:1167-1583052300-1583052300@mountainlessbikeclub.net.au
SUMMARY:Roll the Dice
DESCRIPTION:2 rider teams alternating laps. Handicap system applies.
URL:https://mountainlessbikeclub.net.au/event/roll-the-dice-2/
END:VEVENT
END:VCALENDAR