BEGIN:VCALENDAR
VERSION:2.0
PRODID:-//Coomealla Mildura Mountainless Bike Club - ECPv4.2.7//NONSGML v1.0//EN
CALSCALE:GREGORIAN
METHOD:PUBLISH
X-WR-CALNAME:Coomealla Mildura Mountainless Bike Club
X-ORIGINAL-URL:https://mountainlessbikeclub.net.au
X-WR-CALDESC:Events for Coomealla Mildura Mountainless Bike Club
BEGIN:VEVENT
DTSTART;TZID=Australia/Broken_Hill:20200322T084500
DTEND;TZID=Australia/Broken_Hill:20200322T084500
DTSTAMP:20260423T093423
CREATED:20191126T042255
LAST-MODIFIED:20191126T042255
UID:1169-1584866700-1584866700@mountainlessbikeclub.net.au
SUMMARY:Pony Express Championships
DESCRIPTION:2 rider teams alternating laps. Handicap system applies.
URL:https://mountainlessbikeclub.net.au/event/pony-express-championships/
END:VEVENT
END:VCALENDAR