BEGIN:VCALENDAR
VERSION:2.0
PRODID:-//Coomealla Mildura Mountainless Bike Club - ECPv4.2.7//NONSGML v1.0//EN
CALSCALE:GREGORIAN
METHOD:PUBLISH
X-WR-CALNAME:Coomealla Mildura Mountainless Bike Club
X-ORIGINAL-URL:https://mountainlessbikeclub.net.au
X-WR-CALDESC:Events for Coomealla Mildura Mountainless Bike Club
BEGIN:VEVENT
DTSTART;TZID=Australia/Broken_Hill:20190525T140000
DTEND;TZID=Australia/Broken_Hill:20190525T140000
DTSTAMP:20260423T105601
CREATED:20190129T054940
LAST-MODIFIED:20190129T054940
UID:1130-1558792800-1558792800@mountainlessbikeclub.net.au
SUMMARY:Poker Race
DESCRIPTION:Great social weekend away.  Saturday Time Trial and Sunday Poker Race.
URL:https://mountainlessbikeclub.net.au/event/poker-race-2/
END:VEVENT
END:VCALENDAR