BEGIN:VCALENDAR
VERSION:2.0
PRODID:-//Coomealla Mildura Mountainless Bike Club - ECPv4.2.7//NONSGML v1.0//EN
CALSCALE:GREGORIAN
METHOD:PUBLISH
X-WR-CALNAME:Coomealla Mildura Mountainless Bike Club
X-ORIGINAL-URL:https://mountainlessbikeclub.net.au
X-WR-CALDESC:Events for Coomealla Mildura Mountainless Bike Club
BEGIN:VEVENT
DTSTART;VALUE=DATE:20190223
DTEND;VALUE=DATE:20190223
DTSTAMP:20260423T042345
CREATED:20190207
LAST-MODIFIED:20190207
UID:1139-1550880000-1550966399@mountainlessbikeclub.net.au
SUMMARY:Otway Odyssey
DESCRIPTION:Events a range of distances available on some of Victoria's sweetest trails.
URL:https://mountainlessbikeclub.net.au/event/otway-odyssey/
LOCATION:Victoria\, Australia
END:VEVENT
END:VCALENDAR