BEGIN:VCALENDAR
VERSION:2.0
PRODID:-//Coomealla Mildura Mountainless Bike Club - ECPv4.2.7//NONSGML v1.0//EN
CALSCALE:GREGORIAN
METHOD:PUBLISH
X-WR-CALNAME:Coomealla Mildura Mountainless Bike Club
X-ORIGINAL-URL:https://mountainlessbikeclub.net.au
X-WR-CALDESC:Events for Coomealla Mildura Mountainless Bike Club
BEGIN:VEVENT
DTSTART;TZID=Australia/Broken_Hill:20210221T080000
DTEND;TZID=Australia/Broken_Hill:20210221T080000
DTSTAMP:20260423T124945
CREATED:20210122T000911
LAST-MODIFIED:20210122T001411
UID:1236-1613894400-1613894400@mountainlessbikeclub.net.au
SUMMARY:Otway Odyssey
DESCRIPTION:Round: Away\nEvents a range of distances available on some of Victoria's sweetest trails.
URL:https://mountainlessbikeclub.net.au/event/otway-odyssey-3/
LOCATION:Victoria\, Australia
END:VEVENT
END:VCALENDAR