BEGIN:VCALENDAR
VERSION:2.0
PRODID:-//Coomealla Mildura Mountainless Bike Club - ECPv4.2.7//NONSGML v1.0//EN
CALSCALE:GREGORIAN
METHOD:PUBLISH
X-WR-CALNAME:Coomealla Mildura Mountainless Bike Club
X-ORIGINAL-URL:https://mountainlessbikeclub.net.au
X-WR-CALDESC:Events for Coomealla Mildura Mountainless Bike Club
BEGIN:VEVENT
DTSTART;VALUE=DATE:20200222
DTEND;VALUE=DATE:20200222
DTSTAMP:20260423T092328
CREATED:20191126
LAST-MODIFIED:20191126
UID:1197-1582329600-1582415999@mountainlessbikeclub.net.au
SUMMARY:Otway Odyssey
DESCRIPTION:Event a range of distances available on some of Victoria's sweetest trails.
URL:https://mountainlessbikeclub.net.au/event/otway-odyssey-2/
LOCATION:Victoria\, Australia
END:VEVENT
END:VCALENDAR