BEGIN:VCALENDAR
VERSION:2.0
PRODID:-//Coomealla Mildura Mountainless Bike Club - ECPv4.2.7//NONSGML v1.0//EN
CALSCALE:GREGORIAN
METHOD:PUBLISH
X-WR-CALNAME:Coomealla Mildura Mountainless Bike Club
X-ORIGINAL-URL:https://mountainlessbikeclub.net.au
X-WR-CALDESC:Events for Coomealla Mildura Mountainless Bike Club
BEGIN:VEVENT
DTSTART;TZID=Australia/Broken_Hill:20170305T093000
DTEND;TZID=Australia/Broken_Hill:20170305T220000
DTSTAMP:20260423T073338
CREATED:20170109T010620
LAST-MODIFIED:20170217T034408
UID:919-1488706200-1488751200@mountainlessbikeclub.net.au
SUMMARY:Novelty - Roll the Dice
DESCRIPTION:2 person teams alternating laps. Handicap system applies.\n\n \n\nRegistration: 8:45am
URL:https://mountainlessbikeclub.net.au/event/novelty-roll-the-dice/
CATEGORIES:Roll the Dice
END:VEVENT
END:VCALENDAR