BEGIN:VCALENDAR
VERSION:2.0
PRODID:-//Coomealla Mildura Mountainless Bike Club - ECPv4.2.7//NONSGML v1.0//EN
CALSCALE:GREGORIAN
METHOD:PUBLISH
X-WR-CALNAME:Coomealla Mildura Mountainless Bike Club
X-ORIGINAL-URL:https://mountainlessbikeclub.net.au
X-WR-CALDESC:Events for Coomealla Mildura Mountainless Bike Club
BEGIN:VEVENT
DTSTART;TZID=Australia/Broken_Hill:20190714T100000
DTEND;TZID=Australia/Broken_Hill:20190714T100000
DTSTAMP:20260423T073055
CREATED:20190129T054940
LAST-MODIFIED:20190129T054940
UID:1133-1563098400-1563098400@mountainlessbikeclub.net.au
SUMMARY:Multi Event Weekend
DESCRIPTION:Four Events over 2 days
URL:https://mountainlessbikeclub.net.au/event/multi-event-weekend-3/
END:VEVENT
END:VCALENDAR