BEGIN:VCALENDAR
VERSION:2.0
PRODID:-//Coomealla Mildura Mountainless Bike Club - ECPv4.2.7//NONSGML v1.0//EN
CALSCALE:GREGORIAN
METHOD:PUBLISH
X-WR-CALNAME:Coomealla Mildura Mountainless Bike Club
X-ORIGINAL-URL:https://mountainlessbikeclub.net.au
X-WR-CALDESC:Events for Coomealla Mildura Mountainless Bike Club
BEGIN:VEVENT
DTSTART;TZID=Australia/Broken_Hill:20191110T163000
DTEND;TZID=Australia/Broken_Hill:20191110T163000
DTSTAMP:20260423T091707
CREATED:20190129T054207
LAST-MODIFIED:20190129T054207
UID:1126-1573403400-1573403400@mountainlessbikeclub.net.au
SUMMARY:Handicap Eliminator
DESCRIPTION:Registration: 3:45-4:10pm AGM\, Awards Day and Hamburgers.
URL:https://mountainlessbikeclub.net.au/event/handicap-eliminator/
END:VEVENT
END:VCALENDAR