BEGIN:VCALENDAR
VERSION:2.0
PRODID:-//Coomealla Mildura Mountainless Bike Club - ECPv4.2.7//NONSGML v1.0//EN
CALSCALE:GREGORIAN
METHOD:PUBLISH
X-WR-CALNAME:Coomealla Mildura Mountainless Bike Club
X-ORIGINAL-URL:https://mountainlessbikeclub.net.au
X-WR-CALDESC:Events for Coomealla Mildura Mountainless Bike Club
BEGIN:VEVENT
DTSTART;TZID=Australia/Broken_Hill:20201101T154000
DTEND;TZID=Australia/Broken_Hill:20201101T180000
DTSTAMP:20260423T110910
CREATED:20191126T044016
LAST-MODIFIED:20191126T044017
UID:1193-1604245200-1604253600@mountainlessbikeclub.net.au
SUMMARY:Handicap Eliminator Trophy
DESCRIPTION:AGM\, Awards Day and Hamburgers
URL:https://mountainlessbikeclub.net.au/event/handicap-eliminator-trophy/
END:VEVENT
END:VCALENDAR