BEGIN:VCALENDAR
VERSION:2.0
PRODID:-//Coomealla Mildura Mountainless Bike Club - ECPv4.2.7//NONSGML v1.0//EN
CALSCALE:GREGORIAN
METHOD:PUBLISH
X-WR-CALNAME:Coomealla Mildura Mountainless Bike Club
X-ORIGINAL-URL:https://mountainlessbikeclub.net.au
X-WR-CALDESC:Events for Coomealla Mildura Mountainless Bike Club
BEGIN:VEVENT
DTSTART;TZID=Australia/Broken_Hill:20200920T083000
DTEND;TZID=Australia/Broken_Hill:20200920T170000
DTSTAMP:20260423T143544
CREATED:20191126T043512
LAST-MODIFIED:20191126T043512
UID:1186-1600590600-1600621200@mountainlessbikeclub.net.au
SUMMARY:***Coomy 3 Hour Enduro***
DESCRIPTION:Double points for '2020 Series'.
URL:https://mountainlessbikeclub.net.au/event/coomy-3-hour-enduro-2/
END:VEVENT
END:VCALENDAR