BEGIN:VCALENDAR
VERSION:2.0
PRODID:-//Coomealla Mildura Mountainless Bike Club - ECPv4.2.7//NONSGML v1.0//EN
CALSCALE:GREGORIAN
METHOD:PUBLISH
X-WR-CALNAME:Coomealla Mildura Mountainless Bike Club
X-ORIGINAL-URL:https://mountainlessbikeclub.net.au
X-WR-CALDESC:Events for Coomealla Mildura Mountainless Bike Club
BEGIN:VEVENT
DTSTART;TZID=Australia/Broken_Hill:20210718T090000
DTEND;TZID=Australia/Broken_Hill:20210718T090000
DTSTAMP:20260423T124812
CREATED:20210122T000910
LAST-MODIFIED:20210122T000910
UID:1229-1626598800-1626598800@mountainlessbikeclub.net.au
SUMMARY:CMMTBC Multi Event
DESCRIPTION:Round: 6 - Day 2 Event 2 - Time Trial                  Event 3 - CriteriumRegistration: 8:15-8:45am 
URL:https://mountainlessbikeclub.net.au/event/cmmtbc-multi-event/
END:VEVENT
END:VCALENDAR