BEGIN:VCALENDAR
VERSION:2.0
PRODID:-//Coomealla Mildura Mountainless Bike Club - ECPv4.2.7//NONSGML v1.0//EN
CALSCALE:GREGORIAN
METHOD:PUBLISH
X-WR-CALNAME:Coomealla Mildura Mountainless Bike Club
X-ORIGINAL-URL:https://mountainlessbikeclub.net.au
X-WR-CALDESC:Events for Coomealla Mildura Mountainless Bike Club
BEGIN:VEVENT
DTSTART;TZID=Australia/Broken_Hill:20210717T170000
DTEND;TZID=Australia/Broken_Hill:20210717T170000
DTSTAMP:20260423T160421
CREATED:20210122T000911
LAST-MODIFIED:20210122T000911
UID:1228-1626541200-1626541200@mountainlessbikeclub.net.au
SUMMARY:CMMTBC Multi Event
DESCRIPTION:Round: 6 - Day 1Event 1 - MTB Cross Points Race.Registration: 4:15-4:45pm
URL:https://mountainlessbikeclub.net.au/event/cmmtbc-multi-event-2/
END:VEVENT
END:VCALENDAR