BEGIN:VCALENDAR
VERSION:2.0
PRODID:-//Coomealla Mildura Mountainless Bike Club - ECPv4.2.7//NONSGML v1.0//EN
CALSCALE:GREGORIAN
METHOD:PUBLISH
X-WR-CALNAME:Coomealla Mildura Mountainless Bike Club
X-ORIGINAL-URL:https://mountainlessbikeclub.net.au
X-WR-CALDESC:Events for Coomealla Mildura Mountainless Bike Club
BEGIN:VEVENT
DTSTART;TZID=Australia/Broken_Hill:20211010T090000
DTEND;TZID=Australia/Broken_Hill:20211010T090000
DTSTAMP:20260423T175401
CREATED:20210122T000910
LAST-MODIFIED:20210122T000910
UID:1233-1633856400-1633856400@mountainlessbikeclub.net.au
SUMMARY:CMMTBC Anniversary Event
DESCRIPTION:Round: 10Event 1 - MTB Cross Points Race.Registration: 8:15-8:45am 
URL:https://mountainlessbikeclub.net.au/event/cmmtbc-anniversary-event-5/
END:VEVENT
END:VCALENDAR