BEGIN:VCALENDAR
VERSION:2.0
PRODID:-//Coomealla Mildura Mountainless Bike Club - ECPv4.2.7//NONSGML v1.0//EN
CALSCALE:GREGORIAN
METHOD:PUBLISH
X-WR-CALNAME:Coomealla Mildura Mountainless Bike Club
X-ORIGINAL-URL:https://mountainlessbikeclub.net.au
X-WR-CALDESC:Events for Coomealla Mildura Mountainless Bike Club
BEGIN:VEVENT
DTSTART;TZID=Australia/Broken_Hill:20191020T091500
DTEND;TZID=Australia/Broken_Hill:20191020T091500
DTSTAMP:20260423T103916
CREATED:20190129T054207
LAST-MODIFIED:20190129T054207
UID:1125-1571562900-1571562900@mountainlessbikeclub.net.au
SUMMARY:CMMTBC Anniversary Event
DESCRIPTION:Registration: 8:30-9:00am - Event 2 - Time Trial                      Event 3 - Criterium
URL:https://mountainlessbikeclub.net.au/event/cmmtbc-anniversary-event-2/
END:VEVENT
END:VCALENDAR