BEGIN:VCALENDAR
VERSION:2.0
PRODID:-//Coomealla Mildura Mountainless Bike Club - ECPv4.2.7//NONSGML v1.0//EN
CALSCALE:GREGORIAN
METHOD:PUBLISH
X-WR-CALNAME:Coomealla Mildura Mountainless Bike Club
X-ORIGINAL-URL:https://mountainlessbikeclub.net.au
X-WR-CALDESC:Events for Coomealla Mildura Mountainless Bike Club
BEGIN:VEVENT
DTSTART;TZID=Australia/Broken_Hill:20170715T100000
DTEND;TZID=Australia/Broken_Hill:20170716T220000
DTSTAMP:20260423T153456
CREATED:20170109T010620
LAST-MODIFIED:20170109T013051
UID:927-1500112800-1500242400@mountainlessbikeclub.net.au
SUMMARY:Away - Broken Hill
DESCRIPTION:3 Events Saturday. 1 Event Sunday
URL:https://mountainlessbikeclub.net.au/event/away-broken-hill/
LOCATION:NSW\, Australia
CATEGORIES:Multi Event Weekend
END:VEVENT
END:VCALENDAR