BEGIN:VCALENDAR
VERSION:2.0
PRODID:-//Coomealla Mildura Mountainless Bike Club - ECPv4.2.7//NONSGML v1.0//EN
CALSCALE:GREGORIAN
METHOD:PUBLISH
X-WR-CALNAME:Coomealla Mildura Mountainless Bike Club
X-ORIGINAL-URL:https://mountainlessbikeclub.net.au
X-WR-CALDESC:Events for Coomealla Mildura Mountainless Bike Club
BEGIN:VEVENT
DTSTART;TZID=Australia/Broken_Hill:20170617T110000
DTEND;TZID=Australia/Broken_Hill:20170617T220000
DTSTAMP:20260423T152559
CREATED:20170109T010620
LAST-MODIFIED:20170217T034622
UID:925-1497697200-1497736800@mountainlessbikeclub.net.au
SUMMARY:Away - Broken Hill Silverton
DESCRIPTION:Great social weekend away.\n\n \n\nRegistration: 9:30am - 10:30am
URL:https://mountainlessbikeclub.net.au/event/away-broken-hill-silverton/
CATEGORIES:Poker Race
END:VEVENT
END:VCALENDAR