BEGIN:VCALENDAR
VERSION:2.0
PRODID:-//Coomealla Mildura Mountainless Bike Club - ECPv4.2.7//NONSGML v1.0//EN
CALSCALE:GREGORIAN
METHOD:PUBLISH
X-WR-CALNAME:Coomealla Mildura Mountainless Bike Club
X-ORIGINAL-URL:https://mountainlessbikeclub.net.au
X-WR-CALDESC:Events for Coomealla Mildura Mountainless Bike Club
BEGIN:VEVENT
DTSTART;TZID=Australia/Broken_Hill:20170812T100000
DTEND;TZID=Australia/Broken_Hill:20170812T220000
DTSTAMP:20260423T121501
CREATED:20170109T010620
LAST-MODIFIED:20170217T034918
UID:929-1502532000-1502575200@mountainlessbikeclub.net.au
SUMMARY:Away - Broken Hill Golf Club Track
DESCRIPTION:Give the 'granny ring' a run. Excellent training for CMMTBC 3hour Enduro.\n\n \n\nRegistration: 9:00am - 9:30am
URL:https://mountainlessbikeclub.net.au/event/away-broken-hill-golf-club-track/
CATEGORIES:Broken Hill 3 hour
END:VEVENT
END:VCALENDAR