BEGIN:VCALENDAR
VERSION:2.0
PRODID:-//Coomealla Mildura Mountainless Bike Club - ECPv4.2.7//NONSGML v1.0//EN
CALSCALE:GREGORIAN
METHOD:PUBLISH
X-WR-CALNAME:Coomealla Mildura Mountainless Bike Club
X-ORIGINAL-URL:https://mountainlessbikeclub.net.au
X-WR-CALDESC:Events for Coomealla Mildura Mountainless Bike Club
BEGIN:VEVENT
DTSTART;TZID=Australia/Broken_Hill:20180831T083000
DTEND;TZID=Australia/Broken_Hill:20180901T120000
DTSTAMP:20260423T004252
CREATED:20171217T223802
LAST-MODIFIED:20171220T222255
UID:1039-1535704200-1535803200@mountainlessbikeclub.net.au
SUMMARY:6/18 Hours of Melrose
DESCRIPTION:Away\n\nOrganiser: Melrose MTB Club\n\nVenue: Melrose\, SA\n\nRace Time:\n\nPhone:
URL:https://mountainlessbikeclub.net.au/event/618-hours-of-melrose/
CATEGORIES:All Grades
END:VEVENT
END:VCALENDAR