BEGIN:VCALENDAR
VERSION:2.0
PRODID:-//Coomealla Mildura Mountainless Bike Club - ECPv4.2.7//NONSGML v1.0//EN
CALSCALE:GREGORIAN
METHOD:PUBLISH
X-WR-CALNAME:Coomealla Mildura Mountainless Bike Club
X-ORIGINAL-URL:https://mountainlessbikeclub.net.au
X-WR-CALDESC:Events for Coomealla Mildura Mountainless Bike Club
BEGIN:VEVENT
DTSTART;TZID=Australia/Broken_Hill:20210904T000000
DTEND;TZID=Australia/Broken_Hill:20210904T000000
DTSTAMP:20260423T160753
CREATED:20210122T000910
LAST-MODIFIED:20210122T003234
UID:1240-1630713600-1630713600@mountainlessbikeclub.net.au
SUMMARY:6/18 Hours of Melrose
DESCRIPTION:Round: Away\nA good place to test your lack of bike handling.
URL:https://mountainlessbikeclub.net.au/event/618-hours-of-melrose-4/
LOCATION:South Australia\, Australia
END:VEVENT
END:VCALENDAR