BEGIN:VCALENDAR
VERSION:2.0
PRODID:-//Coomealla Mildura Mountainless Bike Club - ECPv4.2.7//NONSGML v1.0//EN
CALSCALE:GREGORIAN
METHOD:PUBLISH
X-WR-CALNAME:Coomealla Mildura Mountainless Bike Club
X-ORIGINAL-URL:https://mountainlessbikeclub.net.au
X-WR-CALDESC:Events for Coomealla Mildura Mountainless Bike Club
BEGIN:VEVENT
DTSTART;TZID=Australia/Broken_Hill:20181014T083000
DTEND;TZID=Australia/Broken_Hill:20181014T120000
DTSTAMP:20260423T055628
CREATED:20171217T223802
LAST-MODIFIED:20171220T221251
UID:1032-1539505800-1539518400@mountainlessbikeclub.net.au
SUMMARY:2018 Aggregate Round 9 - Day 2
DESCRIPTION:CMMTBC 'First Race' Anniversary Event\n\nOrganiser: Coomealla Mildura Mountainless Bike Club\n\nVenue: Coomealla MTB Park\n\nRegistration: 8:30am\n\nRace Time: 9:15am\n\nPhone: 0422875988
URL:https://mountainlessbikeclub.net.au/event/2018-aggregate-round-9-day-2/
CATEGORIES:All Grades
END:VEVENT
END:VCALENDAR