BEGIN:VCALENDAR
VERSION:2.0
PRODID:-//Coomealla Mildura Mountainless Bike Club - ECPv4.2.7//NONSGML v1.0//EN
CALSCALE:GREGORIAN
METHOD:PUBLISH
X-WR-CALNAME:Coomealla Mildura Mountainless Bike Club
X-ORIGINAL-URL:https://mountainlessbikeclub.net.au
X-WR-CALDESC:Events for Coomealla Mildura Mountainless Bike Club
BEGIN:VEVENT
DTSTART;TZID=Australia/Broken_Hill:20180923T100000
DTEND;TZID=Australia/Broken_Hill:20180923T120000
DTSTAMP:20260423T040616
CREATED:20171217T223802
LAST-MODIFIED:20180917T051525
UID:1030-1537696800-1537704000@mountainlessbikeclub.net.au
SUMMARY:2018 Aggregate Round 8
DESCRIPTION:Coomy 3 Hour Enduro\n\nOrganiser: Coomealla Mildura Mountainless Bike Club\n\nVenue: Coomealla MTB Park\n\nRegistration: 8:30am\n\nRace Time: 10:00am\n\nPhone: 0422875988\n\nhttps://online.mtba.asn.au/ERegister.aspx?E=5791
URL:https://mountainlessbikeclub.net.au/event/2018-aggregate-round-8/
CATEGORIES:All Grades
END:VEVENT
END:VCALENDAR